BEGIN:VCALENDAR
VERSION:2.0
PRODID:-//New Groove - ECPv6.6.0.2//NONSGML v1.0//EN
CALSCALE:GREGORIAN
METHOD:PUBLISH
X-ORIGINAL-URL:https://newgroovemusicstudio.com
X-WR-CALDESC:Events for New Groove
REFRESH-INTERVAL;VALUE=DURATION:PT1H
X-Robots-Tag:noindex
X-PUBLISHED-TTL:PT1H
BEGIN:VTIMEZONE
TZID:UTC
BEGIN:STANDARD
TZOFFSETFROM:+0000
TZOFFSETTO:+0000
TZNAME:UTC
DTSTART:20240101T000000
END:STANDARD
END:VTIMEZONE
BEGIN:VEVENT
DTSTART;TZID=UTC:20240820T130000
DTEND;TZID=UTC:20240820T140000
DTSTAMP:20260420T100443
CREATED:20240521T221941Z
LAST-MODIFIED:20240521T221941Z
UID:3874-1724158800-1724162400@newgroovemusicstudio.com
SUMMARY:General Music Group Class @ Old Pine Rec Center!
DESCRIPTION:Contact the Old Pine Rec Center to sign up for our general music class! Join us as Ms. Jillian teaches us the basics of music\, some bucket drumming\, some singing\, some other extra fun stuff to come!
URL:https://newgroovemusicstudio.com/event/general-music-group-class-old-pine-rec-center-9/
LOCATION:Old Pine Community Center\, 401 Lombard St\, Philadelphia\, 19107\, United States
CATEGORIES:Group Classes
ORGANIZER;CN="New Groove Music Studio":MAILTO:info@newgroovemusicstudio.com
END:VEVENT
END:VCALENDAR